BEGIN:VCALENDAR
VERSION:2.0
PRODID:City of Bend Calendar Creator
METHOD:PUBLISH
BEGIN:VEVENT
DTSTAMP:20250701T101239
DTSTART:20250724T130000
DTEND:20250724T143000
SUMMARY:CANCELED for Summer Break: City of Bend Accessibility Advisory Committee Hybrid Meeting
DESCRIPTION:<h2>The City of Bend Accessibility Advisory Committee (COBAAC) will be taking a summer break in of July.</h2><p><strong>The COBAAC regular meetings will reconvene starting August 28, 2025, from 1:00 to 2:30 PM.</strong></p><p><strong>Language Assistance Services &amp; Accommodation Information fo People with Disabilities:</strong>&nbsp;</p><p>You can obtain this information in alternate formats such as Braille, electronic format, etc. Free language assistance services are also available.&nbsp;Please contact the Accessibility and Equity Program 24 hours in advance of meeting at <a href="mailto:accessibility@bendoregon.gov?subject=accessibility@bendoregon.gov" id="accessibility@bendoregon.gov" title="accessibility@bendoregon.gov"><b><u>accessibility@bendoregon.gov</u></b></a> or call 541-693-2198; Relay Users Dial 7-1-1. Providing, at least, 3 days’ notice prior to the event will help ensure availability.</p><p><strong>Servicios de asistencia lingüística e información sobre alojamiento para personas con discapacidad:</strong></p><p>Puede obtener esta información en formatos alternativos como Braille, formato electrónico, etc. También disponemos de servicios gratuitos de asistencia lingüística. Póngase en contacto con Gestor del proyecto o creador del documento en <a href="mailto:equity@bendoregon.gov?subject=equity@bendoregon.gov" id="equity@bendoregon.gov" title="equity@bendoregon.gov"><b>equity@bendoregon.gov</b></a> o número de teléfono 541-323-8563. Los usuarios del servicio de retransmisión deben marcar el 7-1-1.</p>
X-ALT-DESC;FMTTYPE=text/html:<h2>The City of Bend Accessibility Advisory Committee (COBAAC) will be taking a summer break in of July.</h2><p><strong>The COBAAC regular meetings will reconvene starting August 28, 2025, from 1:00 to 2:30 PM.</strong></p><p><strong>Language Assistance Services &amp; Accommodation Information fo People with Disabilities:</strong>&nbsp;</p><p>You can obtain this information in alternate formats such as Braille, electronic format, etc. Free language assistance services are also available.&nbsp;Please contact the Accessibility and Equity Program 24 hours in advance of meeting at <a href="mailto:accessibility@bendoregon.gov?subject=accessibility@bendoregon.gov" id="accessibility@bendoregon.gov" title="accessibility@bendoregon.gov"><b><u>accessibility@bendoregon.gov</u></b></a> or call 541-693-2198; Relay Users Dial 7-1-1. Providing, at least, 3 days’ notice prior to the event will help ensure availability.</p><p><strong>Servicios de asistencia lingüística e información sobre alojamiento para personas con discapacidad:</strong></p><p>Puede obtener esta información en formatos alternativos como Braille, formato electrónico, etc. También disponemos de servicios gratuitos de asistencia lingüística. Póngase en contacto con Gestor del proyecto o creador del documento en <a href="mailto:equity@bendoregon.gov?subject=equity@bendoregon.gov" id="equity@bendoregon.gov" title="equity@bendoregon.gov"><b>equity@bendoregon.gov</b></a> o número de teléfono 541-323-8563. Los usuarios del servicio de retransmisión deben marcar el 7-1-1.</p>
LOCATION:Council Chambers (City Hall)\, 710 NW Wall St Bend\, Oregon 97703
CLASS:PUBLIC
END:VEVENT
END:VCALENDAR
