BEGIN:VCALENDAR
VERSION:2.0
PRODID:City of Bend Calendar Creator
METHOD:PUBLISH
BEGIN:VEVENT
DTSTAMP:20250822T101729
DTSTART:20250828T130000
DTEND:20250828T143000
SUMMARY:City of Bend Accessibility Advisory Committee Hybrid Meeting
DESCRIPTION:<h2>Hybrid Meeting Notice:</h2><p>The <a href="https://www.bendoregon.gov/government/committees/accessibility-advisory-committee#!/" target="_blank" id="city of Bend Accessibility Advisory Committee"><b>City of Bend Accessibility Advisory Committee</b></a> (COBAAC) will conduct its hybrid meetings through Zoom and in person at City Hall, in Council Chambers, 710 NW Wall Street, Bend, OR; on Thursday, August 28, 2025, from 1:00 to 2:30 p.m.</p><p><strong>To Attend by Computer, <a href="https://bendoregon-gov.zoom.us/webinar/register/WN_CcD-YwB4RQO-P5xjlUk3ew" target="_blank">Pre-Register</a>:</strong></p><p>You will receive an email confirmation with a personal link with information to connect via computer or phone.</p><p><strong>To attend by Phone (Ne Pre-Registration Required):</strong></p><ul>    <li><strong>Dial Toll-Free:&nbsp;</strong>1-888-788-0099</li>    <li><strong>Webinar ID:</strong>&nbsp;849 8310 6457&nbsp;</li>    <li>    <p><strong>Passcode, if prompted: </strong>262222 (COBAAC)</p>    </li></ul><p><strong><a href="https://youtube.com/live/OnLf6LNvEDk?feature=share" target="_blank">Watch the COBAAC August 28, 2025, live at 1:00 p.m.</a></strong></p><p><strong>Technical Difficulties Connecting to this meeting:</strong> Call 541-410-9341.</p><h3>Language Assistance Services &amp; Accommodation Information for People with Disabilities:</h3><p>You can obtain this information in alternate formats such as Braille, electronic format, etc. Free language assistance services are also available. Please contact the Accessibility &amp; Equity Program at <strong><a href="mailto:accessibility@bendoregon.gov?subject=accessibility@bendoregon.gov" id="accessibility@bendoregon.gov" title="accessibility@bendoregon.gov">accessibility@bendoregon.gov</a></strong> or 541-693-2198. Relay Users Dial 7-1-1.</p><h3>Servicios de asistencia lingüística e información sobre alojamiento para personas con discapacidad:</h3><p>Puede obtener esta información en formatos alternativos como Braille, formato electrónico, etc. También disponemos de servicios gratuitos de asistencia lingüística. Póngase en contacto con Gestor del proyecto o creador del documento Equity and Inclusion Director, Andrés Portela en <strong><a href="mailto:equity@bendoregon.gov?subject=equity@bendoregon.gov" id="equity@bendoregon.gov" title="equity@bendoregon.gov">equity@bendoregon.gov</a></strong> o número de teléfono 541-323-8563. Los usuarios del servicio de retransmisión deben marcar el 7-1-1.</p>
X-ALT-DESC;FMTTYPE=text/html:<h2>Hybrid Meeting Notice:</h2><p>The <a href="https://www.bendoregon.gov/government/committees/accessibility-advisory-committee#!/" target="_blank" id="city of Bend Accessibility Advisory Committee"><b>City of Bend Accessibility Advisory Committee</b></a> (COBAAC) will conduct its hybrid meetings through Zoom and in person at City Hall, in Council Chambers, 710 NW Wall Street, Bend, OR; on Thursday, August 28, 2025, from 1:00 to 2:30 p.m.</p><p><strong>To Attend by Computer, <a href="https://bendoregon-gov.zoom.us/webinar/register/WN_CcD-YwB4RQO-P5xjlUk3ew" target="_blank">Pre-Register</a>:</strong></p><p>You will receive an email confirmation with a personal link with information to connect via computer or phone.</p><p><strong>To attend by Phone (Ne Pre-Registration Required):</strong></p><ul>    <li><strong>Dial Toll-Free:&nbsp;</strong>1-888-788-0099</li>    <li><strong>Webinar ID:</strong>&nbsp;849 8310 6457&nbsp;</li>    <li>    <p><strong>Passcode, if prompted: </strong>262222 (COBAAC)</p>    </li></ul><p><strong><a href="https://youtube.com/live/OnLf6LNvEDk?feature=share" target="_blank">Watch the COBAAC August 28, 2025, live at 1:00 p.m.</a></strong></p><p><strong>Technical Difficulties Connecting to this meeting:</strong> Call 541-410-9341.</p><h3>Language Assistance Services &amp; Accommodation Information for People with Disabilities:</h3><p>You can obtain this information in alternate formats such as Braille, electronic format, etc. Free language assistance services are also available. Please contact the Accessibility &amp; Equity Program at <strong><a href="mailto:accessibility@bendoregon.gov?subject=accessibility@bendoregon.gov" id="accessibility@bendoregon.gov" title="accessibility@bendoregon.gov">accessibility@bendoregon.gov</a></strong> or 541-693-2198. Relay Users Dial 7-1-1.</p><h3>Servicios de asistencia lingüística e información sobre alojamiento para personas con discapacidad:</h3><p>Puede obtener esta información en formatos alternativos como Braille, formato electrónico, etc. También disponemos de servicios gratuitos de asistencia lingüística. Póngase en contacto con Gestor del proyecto o creador del documento Equity and Inclusion Director, Andrés Portela en <strong><a href="mailto:equity@bendoregon.gov?subject=equity@bendoregon.gov" id="equity@bendoregon.gov" title="equity@bendoregon.gov">equity@bendoregon.gov</a></strong> o número de teléfono 541-323-8563. Los usuarios del servicio de retransmisión deben marcar el 7-1-1.</p>
LOCATION:Council Chambers (City Hall)\, 710 NW Wall St Bend\, Oregon 97703
CLASS:PUBLIC
END:VEVENT
END:VCALENDAR
