BEGIN:VCALENDAR
VERSION:2.0
PRODID:City of Bend Calendar Creator
METHOD:PUBLISH
BEGIN:VEVENT
DTSTAMP:20240828T160350
DTSTART:20240909T173000
DTEND:20240909T235900
SUMMARY:Planning Commission
DESCRIPTION:<p>The meeting convenes at 5:30PM on a hybrid, in-person and virtual Zoom platform.</p><p>Join the meeting using the following options:</p><p>In-person location: City Hall, Council Chambers, 710 NW Wall Street, Bend, OR 97703</p><p>Register via Zoom Online Meeting Link:&nbsp;<a href="https://bendoregon-gov.zoom.us/webinar/register/WN_o8MK0d_BRdiYsftEfGEp6w"><a href="https://bendoregon-gov.zoom.us/webinar/register/WN_llw7Ffs7SZmh20Gk8aGdWA">https://bendoregon-gov.zoom.us/webinar/register/WN_llw7Ffs7SZmh20Gk8aGdWA</a>&nbsp;</a></p><p>The public is invited to watch on-line at:&nbsp;<a href="https://www.youtube.com/live/ISrRv_Oztng" target="_blank"><a href="https://nam11.safelinks.protection.outlook.com/?url=https%3A%2F%2Fyoutube.com%2Flive%2FpJ0v4QNUM9c%3Ffeature%3Dshare&amp;data=05%7C02%7Cmstonge%40bendoregon.gov%7Ced2b1ad3ee3d4e4b5ae408dcc6c43e9e%7C1c15334815ef4708aebf1e25e57dc400%7C0%7C0%7C638603793382653631%7CUnknown%7CTWFpbGZsb3d8eyJWIjoiMC4wLjAwMDAiLCJQIjoiV2luMzIiLCJBTiI6Ik1haWwiLCJXVCI6Mn0%3D%7C0%7C%7C%7C&amp;sdata=47fuywR8Xfii3iVephCgRugg51P8HThdljlyvakX3hk%3D&amp;reserved=0" target="_blank">https://youtube.com/live/pJ0v4QNUM9c?feature=share</a></a></p><p>Please click here to view the meeting agenda:&nbsp;<a href="https://bendoregon.prod-as.govaccess.org/home/showpublisheddocument/59893/638606205261730000" target="_blank">Agenda</a></p>
X-ALT-DESC;FMTTYPE=text/html:<p>The meeting convenes at 5:30PM on a hybrid, in-person and virtual Zoom platform.</p><p>Join the meeting using the following options:</p><p>In-person location: City Hall, Council Chambers, 710 NW Wall Street, Bend, OR 97703</p><p>Register via Zoom Online Meeting Link:&nbsp;<a href="https://bendoregon-gov.zoom.us/webinar/register/WN_o8MK0d_BRdiYsftEfGEp6w"><a href="https://bendoregon-gov.zoom.us/webinar/register/WN_llw7Ffs7SZmh20Gk8aGdWA">https://bendoregon-gov.zoom.us/webinar/register/WN_llw7Ffs7SZmh20Gk8aGdWA</a>&nbsp;</a></p><p>The public is invited to watch on-line at:&nbsp;<a href="https://www.youtube.com/live/ISrRv_Oztng" target="_blank"><a href="https://nam11.safelinks.protection.outlook.com/?url=https%3A%2F%2Fyoutube.com%2Flive%2FpJ0v4QNUM9c%3Ffeature%3Dshare&amp;data=05%7C02%7Cmstonge%40bendoregon.gov%7Ced2b1ad3ee3d4e4b5ae408dcc6c43e9e%7C1c15334815ef4708aebf1e25e57dc400%7C0%7C0%7C638603793382653631%7CUnknown%7CTWFpbGZsb3d8eyJWIjoiMC4wLjAwMDAiLCJQIjoiV2luMzIiLCJBTiI6Ik1haWwiLCJXVCI6Mn0%3D%7C0%7C%7C%7C&amp;sdata=47fuywR8Xfii3iVephCgRugg51P8HThdljlyvakX3hk%3D&amp;reserved=0" target="_blank">https://youtube.com/live/pJ0v4QNUM9c?feature=share</a></a></p><p>Please click here to view the meeting agenda:&nbsp;<a href="https://bendoregon.prod-as.govaccess.org/home/showpublisheddocument/59893/638606205261730000" target="_blank">Agenda</a></p>
LOCATION:Council Chambers (City Hall)\, 710 NW Wall St Bend\, Oregon 97703
CLASS:PUBLIC
END:VEVENT
END:VCALENDAR
