BEGIN:VCALENDAR
VERSION:2.0
PRODID:City of Bend Calendar Creator
METHOD:PUBLISH
BEGIN:VEVENT
DTSTAMP:20240905T103038
DTSTART:20240913T180000
DTEND:20240913T200000
SUMMARY:Partners in Care and Tower Theatre present Pixar’s Up in Spanish with English subtitles
DESCRIPTION:<p>Join us for a Spanish-language viewing of Pixar’s Up with English subtitles!</p><p>We will watch the movie together and explore concepts about aging, caregiving, and intergenerational relationships.</p><p><strong>Services offered:</strong> food, music, translation, childcare</p><p><strong><a href="https://nam11.safelinks.protection.outlook.com/?url=https%3A%2F%2Fwww.towertheatre.org%2Fevent%2Fwelcome-week-presents-up&amp;data=05%7C02%7Ckbarguil%40bendoregon.gov%7C97e337a00d334da71b1208dccc53a700%7C1c15334815ef4708aebf1e25e57dc400%7C0%7C0%7C638609906893069305%7CUnknown%7CTWFpbGZsb3d8eyJWIjoiMC4wLjAwMDAiLCJQIjoiV2luMzIiLCJBTiI6Ik1haWwiLCJXVCI6Mn0%3D%7C0%7C%7C%7C&amp;sdata=uJyC0mHaNxw8Xw6byPbEKZ%2FDr8HwiTlA%2Bj5%2BPhszrHY%3D&amp;reserved=0" target="_blank">Register for the event here.</a></strong></p><p><strong><a href="https://www.facebook.com/share/uMfCYftgk928u86f/" target="_blank">Visit the event page on Facebook.</a></strong></p><p></p>
X-ALT-DESC;FMTTYPE=text/html:<p>Join us for a Spanish-language viewing of Pixar’s Up with English subtitles!</p><p>We will watch the movie together and explore concepts about aging, caregiving, and intergenerational relationships.</p><p><strong>Services offered:</strong> food, music, translation, childcare</p><p><strong><a href="https://nam11.safelinks.protection.outlook.com/?url=https%3A%2F%2Fwww.towertheatre.org%2Fevent%2Fwelcome-week-presents-up&amp;data=05%7C02%7Ckbarguil%40bendoregon.gov%7C97e337a00d334da71b1208dccc53a700%7C1c15334815ef4708aebf1e25e57dc400%7C0%7C0%7C638609906893069305%7CUnknown%7CTWFpbGZsb3d8eyJWIjoiMC4wLjAwMDAiLCJQIjoiV2luMzIiLCJBTiI6Ik1haWwiLCJXVCI6Mn0%3D%7C0%7C%7C%7C&amp;sdata=uJyC0mHaNxw8Xw6byPbEKZ%2FDr8HwiTlA%2Bj5%2BPhszrHY%3D&amp;reserved=0" target="_blank">Register for the event here.</a></strong></p><p><strong><a href="https://www.facebook.com/share/uMfCYftgk928u86f/" target="_blank">Visit the event page on Facebook.</a></strong></p><p></p>
LOCATION:Tower Theater\, 835 NW Wall St Bend\, Oregon 97703
CLASS:PUBLIC
END:VEVENT
END:VCALENDAR
