BEGIN:VCALENDAR
VERSION:2.0
PRODID:City of Bend Calendar Creator
METHOD:PUBLISH
BEGIN:VEVENT
DTSTAMP:20240903T160417
DTSTART:20240915T160000
DTEND:20240915T180000
SUMMARY:Patinaje Multicultural con Bend Park & Recreation District
DESCRIPTION:<p>¡Ven a patinar con nosotros en el Pabellón para disfrutar de un patinaje multicultural! Habrá música divertida, meriendas, bebidas, exhibiciones de organizaciones locales y mucho más. Todas las edades son bienvenidas.</p><p><strong>Servicios ofrecidos:</strong> meriendas</p><p><a href="https://www.facebook.com/share/ENJPn3EgkqYNZMXz/" target="_blank"><strong>Visita la página del evento en Facebook.</strong></a></p><p></p>
X-ALT-DESC;FMTTYPE=text/html:<p>¡Ven a patinar con nosotros en el Pabellón para disfrutar de un patinaje multicultural! Habrá música divertida, meriendas, bebidas, exhibiciones de organizaciones locales y mucho más. Todas las edades son bienvenidas.</p><p><strong>Servicios ofrecidos:</strong> meriendas</p><p><a href="https://www.facebook.com/share/ENJPn3EgkqYNZMXz/" target="_blank"><strong>Visita la página del evento en Facebook.</strong></a></p><p></p>
LOCATION:The Pavilion\, 1001 SW Bradbury Way Bend\, Oregon 97702
CLASS:PUBLIC
END:VEVENT
END:VCALENDAR
