BEGIN:VCALENDAR
VERSION:2.0
PRODID:City of Bend Calendar Creator
METHOD:PUBLISH
BEGIN:VEVENT
DTSTAMP:20240905T105714
DTSTART:20240917T180000
DTEND:20240917T203000
SUMMARY:Presentación de la película Confianza
DESCRIPTION:<p>Acompáñenos en una noche inolvidable con la periodista Bola Gbadebo, que proyectará su película Bend, realizada por varios miembros de la comunidad local, en la que explora temas como la empatía, las experiencias humanas compartidas y la pertenencia.</p><p>No se pierda la sesión de preguntas y respuestas con los protagonistas de la película y visite una animada exposición de haikus para expresarse de forma creativa.</p><p><strong>Servicios ofrecidos:</strong> meriendas, bebidas, subtítulos, interpretación ASL</p><p><a href="https://www.eventbrite.com/e/confidence-film-premiere-registration-998619486767?aff=ebdsshcopyurl&amp;utm-source=cp&amp;fbclid=IwY2xjawFEQHZleHRuA2FlbQIxMQABHSwBqCup6V4OZbWQSVR-4z-BBRKhgMjpLld5b4bhyZ8zXBMv6czxi6jM0A_aem_e1hNQ4zNOw-cJr7uaYCOwg&amp;utm-campaign=social&amp;utm-content=attendeeshare&amp;utm-medium=discovery&amp;utm-term=listing" target="_blank"><strong>Regístrese para el evento aquí.</strong></a></p><p></p>
X-ALT-DESC;FMTTYPE=text/html:<p>Acompáñenos en una noche inolvidable con la periodista Bola Gbadebo, que proyectará su película Bend, realizada por varios miembros de la comunidad local, en la que explora temas como la empatía, las experiencias humanas compartidas y la pertenencia.</p><p>No se pierda la sesión de preguntas y respuestas con los protagonistas de la película y visite una animada exposición de haikus para expresarse de forma creativa.</p><p><strong>Servicios ofrecidos:</strong> meriendas, bebidas, subtítulos, interpretación ASL</p><p><a href="https://www.eventbrite.com/e/confidence-film-premiere-registration-998619486767?aff=ebdsshcopyurl&amp;utm-source=cp&amp;fbclid=IwY2xjawFEQHZleHRuA2FlbQIxMQABHSwBqCup6V4OZbWQSVR-4z-BBRKhgMjpLld5b4bhyZ8zXBMv6czxi6jM0A_aem_e1hNQ4zNOw-cJr7uaYCOwg&amp;utm-campaign=social&amp;utm-content=attendeeshare&amp;utm-medium=discovery&amp;utm-term=listing" target="_blank"><strong>Regístrese para el evento aquí.</strong></a></p><p></p>
LOCATION:Open Space Event Studios\, 220 NE Lafayette Ave Bend\, Oregon 97701
CLASS:PUBLIC
END:VEVENT
END:VCALENDAR
