BEGIN:VCALENDAR
VERSION:2.0
PRODID:City of Bend Calendar Creator
METHOD:PUBLISH
BEGIN:VEVENT
DTSTAMP:20240903T155840
DTSTART:20240913T170000
DTEND:20240913T190000
SUMMARY:Vamonos a Escalar! Community Climbing Night
DESCRIPTION:<p>Kickoff Welcoming Week with Vamonos Outside at Bend Rock Gym! Newcomer students at Bend La-Pine schools, Latinx families, and BIPOC folks and families are especially welcome to attend.</p><p><strong>Services offered:</strong> BIPOC staff trainers, light snacks</p><p><b><a href="https://www.facebook.com/share/Lke2Qf52dctLLnKF/" target="_blank">Visit the Facebook event page.</a></b></p><p></p>
X-ALT-DESC;FMTTYPE=text/html:<p>Kickoff Welcoming Week with Vamonos Outside at Bend Rock Gym! Newcomer students at Bend La-Pine schools, Latinx families, and BIPOC folks and families are especially welcome to attend.</p><p><strong>Services offered:</strong> BIPOC staff trainers, light snacks</p><p><b><a href="https://www.facebook.com/share/Lke2Qf52dctLLnKF/" target="_blank">Visit the Facebook event page.</a></b></p><p></p>
LOCATION:Bend Rock Gym\, 1182 SE Centennial Ct Bend\, Oregon 97702
CLASS:PUBLIC
END:VEVENT
END:VCALENDAR
