BEGIN:VCALENDAR
VERSION:2.0
PRODID:City of Bend Calendar Creator
METHOD:PUBLISH
BEGIN:VEVENT
DTSTAMP:20240903T160938
DTSTART:20240917T180000
DTEND:20240917T200000
SUMMARY:Movie and Conversation!
DESCRIPTION:<p>Join us for a surprise movie night in Spanish. We will have&nbsp;free popcorn, light beverages and free food. We assure you’ll have a great time, both because of the movie and the food!</p><p>Presented by Oregon Humanities, Benditas and Bend Film during Bend Welcoming Week.&nbsp;</p><p> <strong>Services offered:</strong> food, drinks</p><p></p>
X-ALT-DESC;FMTTYPE=text/html:<p>Join us for a surprise movie night in Spanish. We will have&nbsp;free popcorn, light beverages and free food. We assure you’ll have a great time, both because of the movie and the food!</p><p>Presented by Oregon Humanities, Benditas and Bend Film during Bend Welcoming Week.&nbsp;</p><p> <strong>Services offered:</strong> food, drinks</p><p></p>
LOCATION:Tin Pan Theater\, 869 NW Tin Pan Alley Bend\, Oregon 97703
CLASS:PUBLIC
END:VEVENT
END:VCALENDAR
