BEGIN:VCALENDAR
VERSION:2.0
PRODID:City of Bend Calendar Creator
METHOD:PUBLISH
BEGIN:VEVENT
DTSTAMP:20240903T160901
DTSTART:20240917T180000
DTEND:20240917T200000
SUMMARY:Tertulias...de película!
DESCRIPTION:<p>Únete a una noche de película sorpresa en español, apta para toda la familia. Brindaremos Palomitas de maíz, bebidas no alcohólicas y ricos snacks para picar. Te prometemos que saldrás con un buen sabor... por una excelente película y por la comida!&nbsp;</p><p> Presentado por Oregon Humanities, Benditas y BendFilm durante "Welcoming Week".</p><p><strong>Servicios ofrecidos:</strong> comida, bebidas</p><p></p>
X-ALT-DESC;FMTTYPE=text/html:<p>Únete a una noche de película sorpresa en español, apta para toda la familia. Brindaremos Palomitas de maíz, bebidas no alcohólicas y ricos snacks para picar. Te prometemos que saldrás con un buen sabor... por una excelente película y por la comida!&nbsp;</p><p> Presentado por Oregon Humanities, Benditas y BendFilm durante "Welcoming Week".</p><p><strong>Servicios ofrecidos:</strong> comida, bebidas</p><p></p>
LOCATION:Tin Pan Theater\, 869 NW Tin Pan Alley Bend\, Oregon 97703
CLASS:PUBLIC
END:VEVENT
END:VCALENDAR
