BEGIN:VCALENDAR
VERSION:2.0
PRODID:City of Bend Calendar Creator
METHOD:PUBLISH
BEGIN:VEVENT
DTSTAMP:20240903T161119
DTSTART:20240918T173000
DTEND:20240918T190000
SUMMARY:Affordable Homeownership Fair
DESCRIPTION:<p>Join us for an Affordable Homeownership Fair to learn about exciting opportunities offered by Central Oregon's affordable developers and on how to become a homeowner. Featuring experts in lending and fair housing, this event aims to help build a community where people can live and thrive by providing the essential tools and resources for homeownership.</p><p><strong>Services offered:</strong> simultaneous live Spanish translation, snacks</p><p><a href="https://www.facebook.com/share/ArvxkRC2ZxV6zWab/" target="_blank"><strong>Visit the event page on Facebook.</strong></a></p><p></p>
X-ALT-DESC;FMTTYPE=text/html:<p>Join us for an Affordable Homeownership Fair to learn about exciting opportunities offered by Central Oregon's affordable developers and on how to become a homeowner. Featuring experts in lending and fair housing, this event aims to help build a community where people can live and thrive by providing the essential tools and resources for homeownership.</p><p><strong>Services offered:</strong> simultaneous live Spanish translation, snacks</p><p><a href="https://www.facebook.com/share/ArvxkRC2ZxV6zWab/" target="_blank"><strong>Visit the event page on Facebook.</strong></a></p><p></p>
LOCATION:Larkspur Community Center\, 1600 SE Reed Market Rd Bend\, Oregon 97702
CLASS:PUBLIC
END:VEVENT
END:VCALENDAR
