BEGIN:VCALENDAR
VERSION:2.0
PRODID:City of Bend Calendar Creator
METHOD:PUBLISH
BEGIN:VEVENT
DTSTAMP:20240911T173349
DTSTART:20240919T170000
DTEND:20240919T190000
SUMMARY:Photography exhibition "My Immigrant Story"
DESCRIPTION:<p>The&nbsp;exhibition aims to foster reflection on the immigrant experience of Spanish speakers among residents and visitors of Bend. This means understanding and raising awareness about what migration entails for many people: their reasons for migrating, their fears and hopes while living in the United States, their present lives, and their aspirations for the future.</p><p><strong>Services Offered:</strong> Light snacks and drinks <em>(no alcohol)</em></p><p><a href="https://www.facebook.com/share/Z8MzbYuYnzZEthxG/" target="_blank"><strong>Visit the event page on Facebook.</strong></a></p><p></p>
X-ALT-DESC;FMTTYPE=text/html:<p>The&nbsp;exhibition aims to foster reflection on the immigrant experience of Spanish speakers among residents and visitors of Bend. This means understanding and raising awareness about what migration entails for many people: their reasons for migrating, their fears and hopes while living in the United States, their present lives, and their aspirations for the future.</p><p><strong>Services Offered:</strong> Light snacks and drinks <em>(no alcohol)</em></p><p><a href="https://www.facebook.com/share/Z8MzbYuYnzZEthxG/" target="_blank"><strong>Visit the event page on Facebook.</strong></a></p><p></p>
LOCATION:Bend-La Pine Schools building\, 520 NW Wall Street Bend\, Oregon 97703
CLASS:PUBLIC
END:VEVENT
END:VCALENDAR
