BEGIN:VCALENDAR
VERSION:2.0
PRODID:City of Bend Calendar Creator
METHOD:PUBLISH
BEGIN:VEVENT
DTSTAMP:20240903T161544
DTSTART:20240919T190000
DTEND:20240919T200000
SUMMARY:Workshop "Stepping into allyship"
DESCRIPTION:<p>Did you know that since 1987, Oregon has been a sanctuary state that supports immigrant and refugee communities by prioritizing human rights, dignity and safety. Join the Latino Community Association to learn about the Oregon Hate and Bias hotline. Immediately following the photo exhibit, from 7 to 8 pm, LCA will offer a workshop and community forum at Está Bien!, located at 221 NW Hill St, Bend, where you will learn the specific protections for protected classes in Oregon, why it is important to report hate and bias incidents, and how to be an ally and effective legal observer!</p><p><a href="https://www.facebook.com/share/KfQmAc9MEnTpJPnN/" target="_blank"><strong>Visit the event page on Facebook.</strong></a></p><p></p>
X-ALT-DESC;FMTTYPE=text/html:<p>Did you know that since 1987, Oregon has been a sanctuary state that supports immigrant and refugee communities by prioritizing human rights, dignity and safety. Join the Latino Community Association to learn about the Oregon Hate and Bias hotline. Immediately following the photo exhibit, from 7 to 8 pm, LCA will offer a workshop and community forum at Está Bien!, located at 221 NW Hill St, Bend, where you will learn the specific protections for protected classes in Oregon, why it is important to report hate and bias incidents, and how to be an ally and effective legal observer!</p><p><a href="https://www.facebook.com/share/KfQmAc9MEnTpJPnN/" target="_blank"><strong>Visit the event page on Facebook.</strong></a></p><p></p>
LOCATION:Salon attached to Está Bien\, 221 NW Hill Street Bend\, Oregon 97701
CLASS:PUBLIC
END:VEVENT
END:VCALENDAR
