BEGIN:VCALENDAR
VERSION:2.0
PRODID:City of Bend Calendar Creator
METHOD:PUBLISH
BEGIN:VEVENT
DTSTAMP:20240903T161854
DTSTART:20240920T180000
DTEND:20240920T200000
SUMMARY:«Hotel para Perros» presentado por la Fundación Tower Theatre, la Biblioteca Deschutes, la Liga de Asistencia de Bend y Benditas
DESCRIPTION:<p>Acompáñenos en la proyección de la película «Hotel para perros» como parte de la Semana de la Acogida.&nbsp; Las entradas son gratuitas y pueden reservarse en towertheatre.org.&nbsp; Venga temprano para recoger LIBROS y material GRATUITO de la Liga de Asistencia de Bend y de la Biblioteca Pública de Deschutes.&nbsp;&nbsp; </p><p>Esta película se proyectará con doblaje al español y subtítulos en inglés.</p><p><strong>Servicios ofrecidos:</strong> comida y bebida a la venta</p><p><strong><a href="https://www.towertheatre.org/event/hotel-for-dogs" target="_blank">Regístrese para el evento aquí.</a></strong></p><p><strong><a href="https://www.facebook.com/share/WLVm114GSophky1Q/" target="_blank">Visita la página del evento en Facebook.</a></strong></p><p></p>
X-ALT-DESC;FMTTYPE=text/html:<p>Acompáñenos en la proyección de la película «Hotel para perros» como parte de la Semana de la Acogida.&nbsp; Las entradas son gratuitas y pueden reservarse en towertheatre.org.&nbsp; Venga temprano para recoger LIBROS y material GRATUITO de la Liga de Asistencia de Bend y de la Biblioteca Pública de Deschutes.&nbsp;&nbsp; </p><p>Esta película se proyectará con doblaje al español y subtítulos en inglés.</p><p><strong>Servicios ofrecidos:</strong> comida y bebida a la venta</p><p><strong><a href="https://www.towertheatre.org/event/hotel-for-dogs" target="_blank">Regístrese para el evento aquí.</a></strong></p><p><strong><a href="https://www.facebook.com/share/WLVm114GSophky1Q/" target="_blank">Visita la página del evento en Facebook.</a></strong></p><p></p>
LOCATION:Tower Theater\, 835 NW Wall St Bend\, Oregon 97703
CLASS:PUBLIC
END:VEVENT
END:VCALENDAR
