BEGIN:VCALENDAR
VERSION:2.0
PRODID:City of Bend Calendar Creator
METHOD:PUBLISH
BEGIN:VEVENT
DTSTAMP:20240903T135633
DTSTART:20240920T160000
DTEND:20240920T193000
SUMMARY:The Journey of the Monarch Butterflies Learning Garden
DESCRIPTION:<p>Join us for a family-friendly Monarch butterfly-focused event in our Learning Garden. We'll be featuring a short film on Monarch Butterflies, providing activities for kids and resources to take home!</p><p><strong>Services offered:</strong> food, drinks</p><p></p>
X-ALT-DESC;FMTTYPE=text/html:<p>Join us for a family-friendly Monarch butterfly-focused event in our Learning Garden. We'll be featuring a short film on Monarch Butterflies, providing activities for kids and resources to take home!</p><p><strong>Services offered:</strong> food, drinks</p><p></p>
LOCATION:The Environmental Center\, 16 NW Kansas Ave Bend\, Oregon 97703
CLASS:PUBLIC
END:VEVENT
END:VCALENDAR
