BEGIN:VCALENDAR
VERSION:2.0
PRODID:City of Bend Calendar Creator
METHOD:PUBLISH
BEGIN:VEVENT
DTSTAMP:20240903T141919
DTSTART:20240920T140000
DTEND:20240920T180000
SUMMARY:Conexiones Comunitarias
DESCRIPTION:<p>Disfrute con nosotros de una tarde enriquecedora de conexión, creatividad y conversación organizada por el Grupo de Justicia Restaurativa y Equidad de Bend. Este evento está diseñado para reunir a miembros de la comunidad de todas las edades para participar en actividades y debates significativos, fomentando un espíritu de unidad y comprensión.</p><p><strong>Servicios ofrecidos:</strong> materials, meriendas, bebidas, servicios limitados de traducción al español</p><p><strong><a href="https://docs.google.com/forms/d/e/1FAIpQLScdculfIXURwBqbOImN_P8jQax1o-ixoxXkcBrjRqQdlKMdMQ/viewform" target="_blank">Regístrese para el evento aquí.</a></strong></p><p><strong><a href="https://www.facebook.com/share/qYX6uy7KSaR5ydf5/" target="_blank">Visita la página del evento en Facebook.</a></strong></p><p></p>
X-ALT-DESC;FMTTYPE=text/html:<p>Disfrute con nosotros de una tarde enriquecedora de conexión, creatividad y conversación organizada por el Grupo de Justicia Restaurativa y Equidad de Bend. Este evento está diseñado para reunir a miembros de la comunidad de todas las edades para participar en actividades y debates significativos, fomentando un espíritu de unidad y comprensión.</p><p><strong>Servicios ofrecidos:</strong> materials, meriendas, bebidas, servicios limitados de traducción al español</p><p><strong><a href="https://docs.google.com/forms/d/e/1FAIpQLScdculfIXURwBqbOImN_P8jQax1o-ixoxXkcBrjRqQdlKMdMQ/viewform" target="_blank">Regístrese para el evento aquí.</a></strong></p><p><strong><a href="https://www.facebook.com/share/qYX6uy7KSaR5ydf5/" target="_blank">Visita la página del evento en Facebook.</a></strong></p><p></p>
LOCATION:Eastside Bend Library Community Room\, 62080 Dean Swift Road Bend\, Oregon 97701
CLASS:PUBLIC
END:VEVENT
END:VCALENDAR
