BEGIN:VCALENDAR
VERSION:2.0
PRODID:City of Bend Calendar Creator
METHOD:PUBLISH
BEGIN:VEVENT
DTSTAMP:20240903T142736
DTSTART:20240921T090000
DTEND:20240921T140000
SUMMARY:Día de Las Monarcas
DESCRIPTION:<p>Venga a disfrutar de un día especial dedicado al asombroso viaje migratorio de las mariposas monarca, con actuaciones autóctonas, talleres, observación de mariposas y cuentacuentos. Se ofrecerán recursos educativos.</p><p><strong>Servicios ofrecidos:</strong> comida, bebidas, transporte</p><p><a href="https://www.facebook.com/share/xBBnmDGSjjMqyX2z/" target="_blank"><strong>Visita la página del evento en Facebook.</strong></a></p><p></p>
X-ALT-DESC;FMTTYPE=text/html:<p>Venga a disfrutar de un día especial dedicado al asombroso viaje migratorio de las mariposas monarca, con actuaciones autóctonas, talleres, observación de mariposas y cuentacuentos. Se ofrecerán recursos educativos.</p><p><strong>Servicios ofrecidos:</strong> comida, bebidas, transporte</p><p><a href="https://www.facebook.com/share/xBBnmDGSjjMqyX2z/" target="_blank"><strong>Visita la página del evento en Facebook.</strong></a></p><p></p>
LOCATION:Pioneer Park\, 1525 NW Wall Street Bend\, Oregon 97701
CLASS:PUBLIC
END:VEVENT
END:VCALENDAR
