BEGIN:VCALENDAR
VERSION:2.0
PRODID:City of Bend Calendar Creator
METHOD:PUBLISH
BEGIN:VEVENT
DTSTAMP:20240910T123845
DTSTART:20240922T140000
DTEND:20240922T160000
SUMMARY:Lotería with Bend Police!
DESCRIPTION:<p>The Bend Police Department welcomes all members of our community to take part in a fun afternoon of Lotería inside Bend Municipal Court. Lotería is a fun and easy game of chance, much like bingo, but played with a deck of cards. You’ll probably recognize some of the traditional Mexican imagery depicting people, objects and animals. Enjoy snacks, drinks and prizes – including catering from Hola!</p><p><strong>Services offered</strong>: food, drinks</p><p><b><a href="https://www.facebook.com/share/63G5EH1ryqtkaM8S/" target="_blank">Visit the Facebook event page.</a></b></p><p></p>
X-ALT-DESC;FMTTYPE=text/html:<p>The Bend Police Department welcomes all members of our community to take part in a fun afternoon of Lotería inside Bend Municipal Court. Lotería is a fun and easy game of chance, much like bingo, but played with a deck of cards. You’ll probably recognize some of the traditional Mexican imagery depicting people, objects and animals. Enjoy snacks, drinks and prizes – including catering from Hola!</p><p><strong>Services offered</strong>: food, drinks</p><p><b><a href="https://www.facebook.com/share/63G5EH1ryqtkaM8S/" target="_blank">Visit the Facebook event page.</a></b></p><p></p>
LOCATION:Municipal Court\, 555 NE 15th Street Bend\, Oregon 97701
CLASS:PUBLIC
END:VEVENT
END:VCALENDAR
