BEGIN:VCALENDAR
VERSION:2.0
PRODID:City of Bend Calendar Creator
METHOD:PUBLISH
BEGIN:VEVENT
DTSTAMP:20240910T123914
DTSTART:20240922T140000
DTEND:20240922T160000
SUMMARY:Lotería con Bend Police!
DESCRIPTION:<p>El Departamento de Policía de Bend da la bienvenida a todos los miembros de nuestra comunidad a participar en una divertida tarde de Lotería dentro de la Corte Municipal de Bend. La lotería es un juego de azar fácil y divertido, muy parecido al bingo, pero que se juega con una baraja de cartas. Probablemente reconocerá algunas de las imágenes tradicionales mexicanas que representan personas, objetos y animales. Disfrute de aperitivos, bebidas y premios, incluyendo comida de Hola!</p><p><strong>Servicios ofrecidos:</strong> comida, bebidas</p><p><a href="https://www.facebook.com/share/63G5EH1ryqtkaM8S/" target="_blank"><strong>Visita la página del evento en Facebook.</strong></a></p><p></p>
X-ALT-DESC;FMTTYPE=text/html:<p>El Departamento de Policía de Bend da la bienvenida a todos los miembros de nuestra comunidad a participar en una divertida tarde de Lotería dentro de la Corte Municipal de Bend. La lotería es un juego de azar fácil y divertido, muy parecido al bingo, pero que se juega con una baraja de cartas. Probablemente reconocerá algunas de las imágenes tradicionales mexicanas que representan personas, objetos y animales. Disfrute de aperitivos, bebidas y premios, incluyendo comida de Hola!</p><p><strong>Servicios ofrecidos:</strong> comida, bebidas</p><p><a href="https://www.facebook.com/share/63G5EH1ryqtkaM8S/" target="_blank"><strong>Visita la página del evento en Facebook.</strong></a></p><p></p>
LOCATION:Municipal Court\, 555 NE 15th Street Bend\, Oregon 97701
CLASS:PUBLIC
END:VEVENT
END:VCALENDAR
