BEGIN:VCALENDAR
VERSION:2.0
PRODID:City of Bend Calendar Creator
METHOD:PUBLISH
BEGIN:VEVENT
DTSTAMP:20240905T105729
DTSTART:20240928T170000
DTEND:20240928T200000
SUMMARY:Presentación de la película Confianza
DESCRIPTION:<p>Acompáñenos en una noche inolvidable con la periodista Bola Gbadebo, que proyectará su película Bend, realizada por varios miembros de la comunidad local, en la que explora temas como la empatía, las experiencias humanas compartidas y la pertenencia.</p><p>No se pierda la sesión de preguntas y respuestas con los protagonistas de la película y visite una animada exposición de haikus para expresarse de forma creativa.</p><p><strong>Servicios ofrecidos:</strong> meriendas, bebidas, subtítulos, interpretación ASL</p><p><strong><a href="https://www.eventbrite.com/e/confidence-film-premiere-registration-998619486767?aff=ebdsshcopyurl&amp;utm-source=cp&amp;fbclid=IwY2xjawFEQHZleHRuA2FlbQIxMQABHSwBqCup6V4OZbWQSVR-4z-BBRKhgMjpLld5b4bhyZ8zXBMv6czxi6jM0A_aem_e1hNQ4zNOw-cJr7uaYCOwg&amp;utm-campaign=social&amp;utm-content=attendeeshare&amp;utm-medium=discovery&amp;utm-term=listing" target="_blank">Regístrese para el evento aquí.</a></strong></p><p><strong><a href="https://www.facebook.com/share/TWr555EwjAzbXw25/" target="_blank">Visita la página del evento en Facebook.</a></strong></p><p></p>
X-ALT-DESC;FMTTYPE=text/html:<p>Acompáñenos en una noche inolvidable con la periodista Bola Gbadebo, que proyectará su película Bend, realizada por varios miembros de la comunidad local, en la que explora temas como la empatía, las experiencias humanas compartidas y la pertenencia.</p><p>No se pierda la sesión de preguntas y respuestas con los protagonistas de la película y visite una animada exposición de haikus para expresarse de forma creativa.</p><p><strong>Servicios ofrecidos:</strong> meriendas, bebidas, subtítulos, interpretación ASL</p><p><strong><a href="https://www.eventbrite.com/e/confidence-film-premiere-registration-998619486767?aff=ebdsshcopyurl&amp;utm-source=cp&amp;fbclid=IwY2xjawFEQHZleHRuA2FlbQIxMQABHSwBqCup6V4OZbWQSVR-4z-BBRKhgMjpLld5b4bhyZ8zXBMv6czxi6jM0A_aem_e1hNQ4zNOw-cJr7uaYCOwg&amp;utm-campaign=social&amp;utm-content=attendeeshare&amp;utm-medium=discovery&amp;utm-term=listing" target="_blank">Regístrese para el evento aquí.</a></strong></p><p><strong><a href="https://www.facebook.com/share/TWr555EwjAzbXw25/" target="_blank">Visita la página del evento en Facebook.</a></strong></p><p></p>
LOCATION:COCC Hitchcock Auditorium\, 2600 NW College Way Bend\, Oregon 97703
CLASS:PUBLIC
END:VEVENT
END:VCALENDAR
