BEGIN:VCALENDAR
VERSION:2.0
PRODID:City of Bend Calendar Creator
METHOD:PUBLISH
BEGIN:VEVENT
DTSTAMP:20240910T150506
DTSTART:20240927T180000
DTEND:20240927T210000
SUMMARY:OSU Outdoor Movie Night: Encanto
DESCRIPTION:<p>OSU Cascades will host an outdoor, family movie event featuring the film “Encanto”. Activities include making crafts such as calaveras or “sugar skulls”; papel picado; Mexican paper flowers; and piñatas. Participants can also join in Lotería. Attendees may bring blankets and low lawn chairs for the film viewing. The first 200 attendees to arrive will each receive a gift bag that celebrates the 2024 Hispanic Heritage Month theme, “Pioneers of Change: Shaping the Future Together.”</p><p><strong>Services offered:</strong> Spanish subtitles</p><p></p>
X-ALT-DESC;FMTTYPE=text/html:<p>OSU Cascades will host an outdoor, family movie event featuring the film “Encanto”. Activities include making crafts such as calaveras or “sugar skulls”; papel picado; Mexican paper flowers; and piñatas. Participants can also join in Lotería. Attendees may bring blankets and low lawn chairs for the film viewing. The first 200 attendees to arrive will each receive a gift bag that celebrates the 2024 Hispanic Heritage Month theme, “Pioneers of Change: Shaping the Future Together.”</p><p><strong>Services offered:</strong> Spanish subtitles</p><p></p>
LOCATION:OSU Cascades\, 1500 SW Chandler Ave Bend\, Oregon 97702
CLASS:PUBLIC
END:VEVENT
END:VCALENDAR
